BEGIN:VCALENDAR
VERSION:2.0
PRODID:-//ChamberMaster//Event Calendar 2.0//EN
METHOD:PUBLISH
X-PUBLISHED-TTL:P3D
REFRESH-INTERVAL:P3D
CALSCALE:GREGORIAN
BEGIN:VEVENT
DTSTART:20240619T000000Z
DTEND:20240619T020000Z
X-MICROSOFT-CDO-ALLDAYEVENT:FALSE
SUMMARY:Women + Wine - featuring Veterans Community Project & Donati Family Vineyards
DESCRIPTION:Join us at The Kuper for our monthly program celebrating women and wine! For this monthly program\, we will be offering a flight of four wines created by Brianna Heywood\, Head Winemaker at Donati Family Vineyards\, a platter of nibbles\, and a special program from Longmont's own Veteran's Community Project. The team from VCP will share their vision and mission for helping to house Longmont's veterans. Come learn more about what VCP is up to\, how they are making Longmont a better place to live\, see what you can do to help\, enjoy some amazing food and wine\, and meet other like-minded members of the Longmont community. Women And Wine member's ticket price is $30\; $50 for non-members. To sign up for Women And Wine\, visit: https://kuperwinebar.com/events/women-wine/
X-ALT-DESC;FMTTYPE=text/html:<span style="font-size:14px"><span style="font-family:arial\,helvetica\,sans-serif"><span style="color:#000000">Join us at The Kuper for our monthly program celebrating women and wine! For this monthly program\, we will be offering a flight of four wines created by Brianna Heywood\, Head Winemaker at Donati Family Vineyards\, a platter of nibbles\, and a special program from Longmont&#39\;s own Veteran&#39\;s Community Project. The team from VCP will share their vision and mission for helping to house Longmont&#39\;s veterans. Come learn more about what VCP is up to\, how they are making Longmont a better place to live\, see what you can do to help\, enjoy some amazing food and wine\, and meet other like-minded members of the Longmont community. Women And Wine member&#39\;s ticket price is $30\; $50 for non-members. To sign up for Women And Wine\, visit:&nbsp\;</span><a href="https://kuperwinebar.com/events/women-wine/">https://kuperwinebar.com/events/women-wine/</a></span></span>
LOCATION:Kuper Wine Bar 600 Longs Peak Ave. Unit H Longmont\, Colorado 80501
UID:e.3083.10132
SEQUENCE:3
DTSTAMP:20260422T091109Z
URL:https://members.longmontchamber.org/events/details/women-wine-featuring-veterans-community-project-donati-family-vineyards-10132
END:VEVENT

END:VCALENDAR
