BEGIN:VCALENDAR
VERSION:2.0
PRODID:-//ChamberMaster//Event Calendar 2.0//EN
METHOD:PUBLISH
X-PUBLISHED-TTL:P3D
REFRESH-INTERVAL:P3D
CALSCALE:GREGORIAN
BEGIN:VEVENT
DTSTART:20250422T000000Z
DTEND:20250422T020000Z
X-MICROSOFT-CDO-ALLDAYEVENT:FALSE
SUMMARY:Women + Wine - Poetry Night with Sally Fulton
DESCRIPTION:For the month of April\, Women & Wine will feature a program from fellow WAW member Sally Fulton and wines from Elle Minor of Sean Minor Wines. With April being National Poetry Month\, this seems fitting!\n\n \n\nSally Fulton is a published poet and she is excited to share her story about how she found poetry\, its impact on her\, and her experience as a woman. The inspiration behind her writing and poetic voice is inspiring. She will also be reading some of her poetry and lead a group writing activity.\n\n \n\nTicket prices are $30 for WAW members\; $50 for non-members. This includes a flight of wine featuring and a small nibbles platter\, along with an engaging program on poetry.\n\n \n\n*If you are a current WAW member\, please log into Tock\, or set up an account in Tock\, with the email that is associated with your WAW membership so you get the member pricing.
X-ALT-DESC;FMTTYPE=text/html:<div><span style="font-size:20px\;">For the month of April\, Women &amp\; Wine will feature a program from fellow WAW member Sally Fulton and wines from Elle Minor of Sean Minor Wines. With April being National Poetry Month\, this seems fitting!</span><br />\n&nbsp\;</div>\n\n<div><span style="font-size:20px\;">Sally Fulton is a published poet and she is excited to share her story about how she found poetry\, its impact on her\, and her experience as a woman. The inspiration behind her writing and poetic voice is inspiring. She will also be reading some of her poetry and lead a group writing activity.</span><br />\n&nbsp\;</div>\n\n<div><span style="font-size:20px\;">Ticket prices are $30 for WAW members\; $50 for non-members. This includes a flight of wine featuring and a small nibbles platter\, along with an engaging program on poetry.</span><br />\n&nbsp\;</div>\n\n<div><span style="font-size:20px\;">*If you are a current WAW member\, please log into Tock\, or set up an account in Tock\, with the email that is associated with your WAW membership so you get the member pricing.</span></div>\n
LOCATION:Kuper Wine Bar
UID:e.3083.13284
SEQUENCE:3
DTSTAMP:20260421T160723Z
URL:https://members.longmontchamber.org/events/details/women-wine-poetry-night-with-sally-fulton-13284
END:VEVENT

END:VCALENDAR
