BEGIN:VCALENDAR
VERSION:2.0
PRODID:-//ChamberMaster//Event Calendar 2.0//EN
METHOD:PUBLISH
X-PUBLISHED-TTL:P3D
REFRESH-INTERVAL:P3D
CALSCALE:GREGORIAN
BEGIN:VEVENT
DTSTART:20250309T210000Z
DTEND:20250310T000000Z
X-MICROSOFT-CDO-ALLDAYEVENT:FALSE
SUMMARY:Woofie's of Boulder Launch Party
DESCRIPTION:Woofie's is in the market offering mobile pet spa services\, pet sitting and walking. Join us for a bite\, a beverage and a few giveaways! Kids and dogs welcome. Check out the van with free nail trims from 3 - 4:30pm. Pass this along to friends and neighbors that have fur babies!\n\n\n\nhttps://evite.me/SAaqz18eFE
X-ALT-DESC;FMTTYPE=text/html:<br />\n<span style="font-size:18px\;"><span style="font-size:22px\;"><span style="background-color:rgb(255\, 255\, 255)\; color:rgb(16\, 27\, 33)\; font-family:brut">Woofie&#39\;s is in the market offering mobile pet spa services\, pet sitting and walking. Join us for a bite\, a beverage and a few giveaways! Kids and dogs welcome. Check out the van with free nail trims from 3 - 4:30pm. Pass this along to friends and neighbors that have fur babies!</span></span><br />\n<br />\n<span style="font-size:22px\;"><a href="https://evite.me/SAaqz18eFE"><span style="background-color: rgb(245\, 245\, 247)\; color: rgb(16\, 27\, 33)\; font-family: brut\;">https://evite.me/SAaqz18eFE</span></a></span></span>
LOCATION:Rayback Collective
UID:e.3083.11415
SEQUENCE:3
DTSTAMP:20260421T160500Z
URL:https://members.longmontchamber.org/events/details/woofie-s-of-boulder-launch-party-11415
END:VEVENT

END:VCALENDAR
