BEGIN:VCALENDAR
VERSION:2.0
PRODID:-//ChamberMaster//Event Calendar 2.0//EN
METHOD:PUBLISH
X-PUBLISHED-TTL:P3D
REFRESH-INTERVAL:P3D
CALSCALE:GREGORIAN
BEGIN:VEVENT
DTSTART:20231101T170000Z
DTEND:20231101T180000Z
X-MICROSOFT-CDO-ALLDAYEVENT:FALSE
SUMMARY:Workers Comp Safety Training 11/01/2023 Zoom Webinar - Making Getting Back to Work Work for You
DESCRIPTION:Longmont Chamber's Pinnacol safety group training\n\n\n\nA Zoom presentation\n\n\n\n"Making Getting Back to Work Work for You"\n\n\n\nPinnacol Return to Work Consultant Tony Franco presenting\n\n \n\nIf you are a new Pinnacol policyholder or new to handling workers' compensation claims\, this course is for you! It is designed to help employers get injured workers back to work safely to work by offering modified duty. You'll learn when and how to contact Pinnacol's Return to Work  consulting and what resources are available to you. You'll also discover how offering modified duty can help your organization better manage your claims and save money.\n\nTopics include:\n\n\n	The benefits of modified duty\n	How to offer modified duty\n	How to identify modified duty tasks\n	Pinnacol's resources and tools\n\n\n \n\n\nAll Chamber members are invited to join our quarterly safety trainings\, a part of our Pinnacol Assurance workers compensation safety program.  For more information email Kathy Stevens.
X-ALT-DESC;FMTTYPE=text/html:<h3 style="margin-top:26.25pt\;margin-right:0in\;margin-bottom:10.5pt\;margin-left:0in\;background:white\;"><span style="font-size:16px\;"><span style="font-family:tahoma\;"><span style="color:#0E0F11\;">Longmont Chamber&#39\;s Pinnacol safety group training<br />\n<br />\n<em>A Zoom presentation</em></span><br />\n<br />\n<strong><span style="color:#0E0F11\;">&quot\;Making Getting Back to Work Work for You&quot\;</span></strong><br />\n<br />\nPinnacol Return to Work Consultant Tony Franco presenting<br />\n&nbsp\;<br />\n<span style="letter-spacing:-.15pt\;"><span style="color:#3C404B\;">If you are a new Pinnacol policyholder or new to handling workers&rsquo\; compensation claims\, this course is for you! It is designed to help employers get injured workers back to work safely to work by offering modified duty. You&rsquo\;ll learn when and how to contact Pinnacol&rsquo\;s Return to Work&trade\; consulting and what resources are available to you. You&rsquo\;ll also discover how offering modified duty can help your organization better manage your claims and save money.</span></span><br />\n<span style="letter-spacing:-.15pt\;"><span style="color:#3C404B\;">Topics include:</span></span></span></span></h3>\n\n<ul>\n	<li style="color:#3C404B\;margin-bottom:10.5pt\;background:white\;"><span style="font-size:16px\;"><span style="font-family:tahoma\;"><span style="letter-spacing:-.15pt\;">The benefits of modified duty</span></span></span></li>\n	<li style="color:#3C404B\;margin-bottom:10.5pt\;background:white\;"><span style="font-size:16px\;"><span style="font-family:tahoma\;"><span style="letter-spacing:-.15pt\;">How to offer modified duty</span></span></span></li>\n	<li style="color:#3C404B\;margin-bottom:10.5pt\;background:white\;"><span style="font-size:16px\;"><span style="font-family:tahoma\;"><span style="letter-spacing:-.15pt\;">How to identify modified duty tasks</span></span></span></li>\n	<li style="color:#3C404B\;margin-bottom:10.5pt\;background:white\;"><span style="font-size:16px\;"><span style="font-family:tahoma\;"><span style="letter-spacing:-.15pt\;">Pinnacol&rsquo\;s resources and tools</span></span></span></li>\n</ul>\n\n<h3 style="margin-top:26.25pt\;margin-right:0in\;margin-bottom:10.5pt\;margin-left:0in\;background:white\;">&nbsp\;</h3>\n\n<div style="color:#3C404B\;margin-bottom:10.5pt\;background:white\;">\n<p><span style="font-size:16px\;"><span style="font-family:tahoma\;">All Chamber members are invited to join our quarterly safety trainings\, a part of our Pinnacol Assurance workers compensation safety program.&nbsp\; For more information email&nbsp\;<a href="mailto:kstevens@longmontchamber.org?subject=Information%20on%20safety%20program&amp\;body=Hello%2C%0APlease%20contact%20me%20regarding%20the%20Pinnacol%20Assurance%20workers%20compensation%20safety%20program.%20%20I%20want%20to%20learn%20more%20about%20saving%20on%20my%20Pinnacol%20workers%20comp%20premium.%0A">Kathy Stevens</a>.</span></span></p>\n\n<p>&nbsp\;</p>\n</div>\n<br />\n&nbsp\;
LOCATION:Zoom webinar
UID:e.3083.9290
SEQUENCE:3
DTSTAMP:20260422T183100Z
URL:https://members.longmontchamber.org/events/details/workers-comp-safety-training-11-01-2023-zoom-webinar-making-getting-back-to-work-work-for-you-9290
END:VEVENT

END:VCALENDAR
