BEGIN:VCALENDAR
VERSION:2.0
PRODID:-//ChamberMaster//Event Calendar 2.0//EN
METHOD:PUBLISH
X-PUBLISHED-TTL:P3D
REFRESH-INTERVAL:P3D
CALSCALE:GREGORIAN
BEGIN:VEVENT
DTSTART:20230503T170000Z
DTEND:20230503T180000Z
X-MICROSOFT-CDO-ALLDAYEVENT:FALSE
SUMMARY:Workers Comp Safety Training 5/3/2023 Webinar - Optimize Productivity Management Based on Your Sleep Patterns
DESCRIPTION:Longmont Chamber's Pinnacol safety group training\n\n\n\nWebinar presentation.\n\n\n\n\n\n"Optimize Productivity Management Based on Your Sleep Patterns "\n\n\n\nPinnacol's Monica Cabrera presenting\, Safety Consultant Trent Brewer facilitating\n\n\n\nDiscover your hidden pattern of daily life to increase your mood and productivity at work. During this program\, participants will: \n\n\n	Determine chronotype to promote self-awareness.\n	Discuss when to complete certain activities throughout the day to promote safety.\n	Create a plan to manage and track daily productivity. \n\n\n\nAll Chamber members are invited to join our quarterly safety trainings\, a part of our Pinnacol Assurance workers compensation safety program.  For more information email Kathy Stevens.\n\nFree Two-hour parking east of the Chamber.
X-ALT-DESC;FMTTYPE=text/html:<h3 style="margin-top:26.25pt\;margin-right:0in\;margin-bottom:10.5pt\;margin-left:0in\;background:white\;"><span style="font-size:16px\;"><span style="font-family:tahoma\;"><span style="color:#0E0F11\;">Longmont Chamber&#39\;s Pinnacol safety group training<br />\n<br />\n<em>Webinar presentation.</em></span><br />\n<br />\n<br />\n<strong><span style="color:#0E0F11\;">&quot\;Optimize Productivity Management Based on Your Sleep Patterns &quot\;</span></strong><br />\n<br />\nPinnacol&rsquo\;s Monica Cabrera presenting\, Safety Consultant Trent Brewer facilitating<br />\n<br />\n<span style="letter-spacing:-.15pt\;"><span style="color:#3C404B\;">Discover your hidden pattern of daily life to increase your mood and productivity at work. During this program\, participants will:&nbsp\;</span></span></span></span></h3>\n\n<ul>\n	<li style="color:#3C404B\;margin-bottom:10.5pt\;background:white\;"><span style="font-size:16px\;"><span style="font-family:tahoma\;"><span style="letter-spacing:-.15pt\;">Determine chronotype to promote self-awareness.</span></span></span></li>\n	<li style="color:#3C404B\;margin-bottom:10.5pt\;background:white\;"><span style="font-size:16px\;"><span style="font-family:tahoma\;"><span style="letter-spacing:-.15pt\;">Discuss when to complete certain activities throughout the day to promote safety.</span></span></span></li>\n	<li style="color:#3C404B\;margin-bottom:10.5pt\;background:white\;"><span style="font-size:16px\;"><span style="font-family:tahoma\;"><span style="letter-spacing:-.15pt\;">Create a plan to manage and track daily productivity.&nbsp\;</span></span></span></li>\n</ul>\n\n<div style="color:#3C404B\;margin-bottom:10.5pt\;background:white\;">\n<p><span style="font-family:tahoma\;"><span style="font-size:16px\;">All Chamber members are invited to join our quarterly safety trainings\, a part of our Pinnacol Assurance workers compensation safety program.&nbsp\; For more information email&nbsp\;<a href="mailto:kstevens@longmontchamber.org?subject=Information%20on%20safety%20program&amp\;body=Hello%2C%0APlease%20contact%20me%20regarding%20the%20Pinnacol%20Assurance%20workers%20compensation%20safety%20program.%20%20I%20want%20to%20learn%20more%20about%20saving%20on%20my%20Pinnacol%20workers%20comp%20premium.%0A">Kathy Stevens</a>.</span></span></p>\n\n<p><span style="font-family:tahoma\;"><span style="font-size:16px\;">Free Two-hour parking east of the Chamber.&nbsp\;</span></span></p>\n</div>\n<br />\n&nbsp\;
LOCATION:Zoom webinar instructions will be sent upon registration. If you have trouble\, call or text Chamber Membership Director Karen Stallard at 303-532-7035 for help. (Kathy will not be able to attend the meeting today.)
UID:e.3083.9288
SEQUENCE:3
DTSTAMP:20260423T033656Z
URL:https://members.longmontchamber.org/events/details/workers-comp-safety-training-5-3-2023-webinar-optimize-productivity-management-based-on-your-sleep-patterns-9288
END:VEVENT

END:VCALENDAR
