BEGIN:VCALENDAR
VERSION:2.0
PRODID:-//ChamberMaster//Event Calendar 2.0//EN
METHOD:PUBLISH
X-PUBLISHED-TTL:P3D
REFRESH-INTERVAL:P3D
CALSCALE:GREGORIAN
BEGIN:VEVENT
DTSTART:20230809T170000Z
DTEND:20230809T180000Z
X-MICROSOFT-CDO-ALLDAYEVENT:FALSE
SUMMARY:Workers Comp Safety Training 8/9/2023 Zoom Webinar - Safety Through Effective Leadership
DESCRIPTION:Longmont Chamber's Pinnacol safety group training\n\n\n\nA Zoom presentation.\n\n\n\n"Safety Through Effective Leadership"\n\n\n\nPinnacol Safety Consultant Trent Brewer facilitating\n\n \n\nSuccessful business leaders empower their employees to make decisions\, speak up about concerns and take ownership of the work they do each day. Business owners\, effective managers and supervisors also see their employees as the solution for workplace safety concerns. Learn how fostering trust\, engaging in active listening and demonstrating care and concern for employees can help build a culture of safety.\n\n \n\n\nAll Chamber members are invited to join our quarterly safety trainings\, a part of our Pinnacol Assurance workers compensation safety program.  For more information email Kathy Stevens.
X-ALT-DESC;FMTTYPE=text/html:<h3 style="margin-top:26.25pt\;margin-right:0in\;margin-bottom:10.5pt\;margin-left:0in\;background:white\;"><span style="font-size:16px\;"><span style="font-family:tahoma\;"><span style="color:#0E0F11\;">Longmont Chamber&#39\;s Pinnacol safety group training<br />\n<br />\n<em>A Zoom presentation.</em></span><br />\n<br />\n<strong><span style="color:#0E0F11\;">&quot\;Safety Through Effective Leadership&quot\;</span></strong><br />\n<br />\nPinnacol Safety Consultant Trent Brewer facilitating<br />\n&nbsp\;<br />\n<span style="letter-spacing:-.15pt\;"><span style="color:#3C404B\;">Successful business leaders empower their employees to make decisions\, speak up about concerns and take ownership of the work they do each day. Business owners\, effective managers and supervisors also see their employees as the solution for workplace safety concerns. Learn how fostering trust\, engaging in active listening and demonstrating care and concern for employees can help build a culture of safety.</span></span></span></span><br />\n&nbsp\;</h3>\n\n<div style="color:#3C404B\;margin-bottom:10.5pt\;background:white\;">\n<p><span style="font-size:16px\;"><span style="font-family:tahoma\;">All Chamber members are invited to join our quarterly safety trainings\, a part of our Pinnacol Assurance workers compensation safety program.&nbsp\; For more information email&nbsp\;<a href="mailto:kstevens@longmontchamber.org?subject=Information%20on%20safety%20program&amp\;body=Hello%2C%0APlease%20contact%20me%20regarding%20the%20Pinnacol%20Assurance%20workers%20compensation%20safety%20program.%20%20I%20want%20to%20learn%20more%20about%20saving%20on%20my%20Pinnacol%20workers%20comp%20premium.%0A">Kathy Stevens</a>.</span></span></p>\n\n<p>&nbsp\;</p>\n</div>\n<br />\n&nbsp\;
LOCATION:Zoom webinar instructions will be emailed upon registering.
UID:e.3083.9289
SEQUENCE:3
DTSTAMP:20260423T005329Z
URL:https://members.longmontchamber.org/events/details/workers-comp-safety-training-8-9-2023-zoom-webinar-safety-through-effective-leadership-9289
END:VEVENT

END:VCALENDAR
