BEGIN:VCALENDAR
VERSION:2.0
PRODID:-//ChamberMaster//Event Calendar 2.0//EN
METHOD:PUBLISH
X-PUBLISHED-TTL:P3D
REFRESH-INTERVAL:P3D
CALSCALE:GREGORIAN
BEGIN:VEVENT
DTSTART:20230215T180000Z
DTEND:20230215T190000Z
X-MICROSOFT-CDO-ALLDAYEVENT:FALSE
SUMMARY:Workers Comp Safety Training Webinar 2/15/23 - Unscrambling the Claims Puzzle
DESCRIPTION:Longmont Chamber's Pinnacol safety group training\n\n\n\nWebinar presentation\n\n\n\n"Unscrambling the Claims Puzzle "\n\n\n\nPinnacol Claims Education Specialist Liana Dyson presenting\nUnderstanding your rights and responsibilities after an employee is injured is a key component to managing claims costs. This course provides information about workers' compensation benefits and rules while connecting the pieces involved in handling claims. After completing this course\, you will be equipped to play an active role in the claims management process.\n\n\n\nTopics include:\n\n\n	Workers' compensation benefits provided to injured workers\n	Workers' compensation rules and processes\n	Communicating with designated medical providers\n	Techniques and tools for managing losses\n\n\n\nAll Chamber members are invited to join our quarterly safety trainings\, a part of our Pinnacol Assurance workers compensation safety program.  For more information email Kathy Stevens.\n\nFree Two-hour parking east of the Chamber.
X-ALT-DESC;FMTTYPE=text/html:<h3 style="margin-top:26.25pt\;margin-right:0in\;margin-bottom:10.5pt\;margin-left:0in\;background:white\;"><span style="font-size:16px\;"><span style="font-family:tahoma\;"><span style="color:#0E0F11\;">Longmont Chamber&#39\;s Pinnacol safety group training<br />\n<br />\n<em>Webinar presentation</em><br />\n<br />\n<strong>&quot\;Unscrambling the Claims Puzzle &quot\;</strong></span><br />\n<br />\n<strong><span style="font-weight:normal\;">Pinnacol <span style="color:#3C4043\;">Claims Education Specialist </span>Liana Dyson presenting</span></strong></span></span></h3>\n<span style="font-size:16px\;"><span style="font-family:tahoma\;"><span style="letter-spacing:-.15pt\;"><span style="color:#3C404B\;">Understanding your rights and responsibilities after an employee is injured is a key component to managing claims costs. This course provides information about workers&rsquo\; compensation benefits and rules while connecting the pieces involved in handling claims. After completing this course\, you will be equipped to play an active role in the claims management process.<br />\n<br />\nTopics include:</span></span></span></span>\n\n<ul>\n	<li style="color:#3C404B\;margin-bottom:10.5pt\;background:white\;"><span style="font-size:16px\;"><span style="font-family:tahoma\;"><span style="letter-spacing:-.15pt\;">Workers&rsquo\; compensation benefits provided to injured workers</span></span></span></li>\n	<li style="color:#3C404B\;margin-bottom:10.5pt\;background:white\;"><span style="font-size:16px\;"><span style="font-family:tahoma\;"><span style="letter-spacing:-.15pt\;">Workers&rsquo\; compensation rules and processes</span></span></span></li>\n	<li style="color:#3C404B\;margin-bottom:10.5pt\;background:white\;"><span style="font-size:16px\;"><span style="font-family:tahoma\;"><span style="letter-spacing:-.15pt\;">Communicating with designated medical providers</span></span></span></li>\n	<li style="color:#3C404B\;margin-bottom:10.5pt\;background:white\;"><span style="font-size:16px\;"><span style="font-family:tahoma\;"><span style="letter-spacing:-.15pt\;">Techniques and tools for managing losses</span></span></span></li>\n</ul>\n\n<div style="color:#3C404B\;margin-bottom:10.5pt\;background:white\;">\n<p>All Chamber members are invited to join our quarterly safety trainings\, a part of our Pinnacol Assurance workers compensation safety program.&nbsp\; For more information email&nbsp\;<a href="mailto:kstevens@longmontchamber.org?subject=Information%20on%20safety%20program&amp\;body=Hello%2C%0APlease%20contact%20me%20regarding%20the%20Pinnacol%20Assurance%20workers%20compensation%20safety%20program.%20%20I%20want%20to%20learn%20more%20about%20saving%20on%20my%20Pinnacol%20workers%20comp%20premium.%0A">Kathy Stevens</a>.</p>\n\n<p>Free Two-hour parking east of the Chamber.&nbsp\;</p>\n</div>\n<br />\n&nbsp\;
LOCATION:Topic: Longmont Chamber of Commerce: Unscrambling the Claims Puzzle Time: Feb 15\, 2023 11:00 AM Mountain Time (US and Canada) Join Zoom Meeting https://pinnacol.zoom.us/j/95018000306?pwd=WWdwb3UzWTVuS1pWT2t5VGcrM21HQT09 Meeting ID: 950 1800 0306 Passcode: 334670 One tap mobile +16699006833\,\,95018000306# Dial in by phone +1 669 900 6833
UID:e.3083.9283
SEQUENCE:3
DTSTAMP:20260423T100828Z
URL:https://members.longmontchamber.org/events/details/workers-comp-safety-training-webinar-2-15-23-unscrambling-the-claims-puzzle-9283
END:VEVENT

END:VCALENDAR
