BEGIN:VCALENDAR
VERSION:2.0
PRODID:-//ChamberMaster//Event Calendar 2.0//EN
METHOD:PUBLISH
X-PUBLISHED-TTL:P3D
REFRESH-INTERVAL:P3D
CALSCALE:GREGORIAN
BEGIN:VEVENT
DTSTART:20240501T170000Z
DTEND:20240501T180000Z
X-MICROSOFT-CDO-ALLDAYEVENT:FALSE
SUMMARY:Workers Comp Safety Training Zoom Webinar - Situational Awareness
DESCRIPTION:Situational Awareness- \n\nSituational awareness is being aware of what is happening around you in terms of where you are\, where you are supposed to be\, and whether anyone or anything around you is a threat to your health and safety.\n\nPinnacol's safety experts have created resources to help you better understand this topic and how you can develop your own situational awareness.\n\n\nAll Chamber members are invited to join our quarterly safety trainings\, a part of our Pinnacol Assurance workers compensation safety program.  For more information email Karen Stallard.
X-ALT-DESC;FMTTYPE=text/html:<h3 element-id="8">Situational Awareness-&nbsp\;</h3>\n\n<p element-id="103">Situational awareness is being aware of what is happening around you in terms of where you are\, where you are supposed to be\, and whether anyone or anything around you is a threat to your health and safety.</p>\n\n<p element-id="102">Pinnacol&#39\;s safety experts have created resources to help you better understand this topic and how you can develop your own situational awareness.</p>\n\n<div element-id="7">\n<h3 element-id="6">All Chamber members are invited to join our quarterly safety trainings\, a part of our Pinnacol Assurance workers compensation safety program.&nbsp\; For more information email <a element-id="5" href="mailto:kstallard@longmontchamber.org?subject=March%207th%20Safety%20Training">Karen Stallard</a>.</h3>\n\n<p element-id="4">&nbsp\;</p>\n</div>\n<br element-id="2" />\n<br element-id="1" />\n<scribe-shadow element-id="0" id="crxjs-ext" style="position: fixed\; width: 0px\; height: 0px\; top: 0px\; left: 0px\; z-index: 2147483647\; overflow: visible\;"></scribe-shadow>
LOCATION:Members must register through the Pinnacol webinar platform Register in advance for this webinar: When: May 1\, 2024 11:00 AM Mountain Time (US and Canada) Topic: Longmont Chamber of Commerce: Situational Awareness Register in advance for this webinar: https://pinnacol.zoom.us/webinar/register/WN_Achy3-u7RwWO3h46KJnTBw Or an H.323/SIP room system: H.323: 162.255.37.11 (US West) 162.255.36.11 (US East) 115.114.131.7 (India Mumbai) 115.114.115.7 (India Hyderabad) 213.19.144.110 (Amsterdam Netherlands) 213.244.140.110 (Germany) 103.122.166.55 (Australia Sydney) 103.122.167.55 (Australia Melbourne) 149.137.40.110 (Singapore) 64.211.144.160 (Brazil) 149.137.68.253 (Mexico) 69.174.57.160 (Canada Toronto) 65.39.152.160 (Canada Vancouver) 207.226.132.110 (Japan Tokyo) 149.137.24.110 (Japan Osaka) Meeting ID: 966 0093 8186 Passcode: 730961 SIP: 96600938186@zoomcrc.com Passcode: 730961 After registering\, you will receive a confirmation email containing information about joining the webinar.
UID:e.3083.10017
SEQUENCE:3
DTSTAMP:20260422T103325Z
URL:https://members.longmontchamber.org/events/details/workers-comp-safety-training-zoom-webinar-situational-awareness-10017
END:VEVENT

END:VCALENDAR
