BEGIN:VCALENDAR
VERSION:2.0
PRODID:-//ChamberMaster//Event Calendar 2.0//EN
METHOD:PUBLISH
X-PUBLISHED-TTL:P3D
REFRESH-INTERVAL:P3D
CALSCALE:GREGORIAN
BEGIN:VEVENT
DTSTART:20240307T180000Z
DTEND:20240307T190000Z
X-MICROSOFT-CDO-ALLDAYEVENT:FALSE
SUMMARY:Workers Comp Safety Training Zoom Webinar - Struck By Hazards
DESCRIPTION:Struck-by injuries in the construction trades are so common and can be so serious that OSHA has made them part of their Focus Four emphasis program. In this 30-minute course\, participants will discover what constitutes a struck-by hazard\, review common workplace hazards in both construction and general industry\, and identify controls to eliminate or reduce the hazard.\n\n\nAll Chamber members are invited to join our quarterly safety trainings\, a part of our Pinnacol Assurance workers compensation safety program.  For more information email Karen Stallard.
X-ALT-DESC;FMTTYPE=text/html:<h3>Struck-by injuries in the construction trades are so common and can be so serious that OSHA has made them part of their Focus Four emphasis program. In this 30-minute course\, participants will discover what constitutes a struck-by hazard\, review common workplace hazards in both construction and general industry\, and identify controls to eliminate or reduce the hazard.</h3>\n\n<div>\n<h3>All Chamber members are invited to join our quarterly safety trainings\, a part of our Pinnacol Assurance workers compensation safety program.&nbsp\; For more information email <a href="mailto:kstallard@longmontchamber.org?subject=March%207th%20Safety%20Training">Karen Stallard</a>.</h3>\n\n<p>&nbsp\;</p>\n</div>\n<br />\n<br />\n<scribe-shadow id="crxjs-ext" style="position: fixed\; width: 0px\; height: 0px\; top: 0px\; left: 0px\; z-index: 2147483647\; overflow: visible\;"></scribe-shadow>
LOCATION:Members must register through the Pinnacol webinar platform Register in advance for this webinar: https://pinnacol.zoom.us/webinar/register/WN_Ca7zEcRjSKmKNtp3vtYQvg After registering\, you will receive a confirmation email containing information about joining the webinar.
UID:e.3083.10016
SEQUENCE:3
DTSTAMP:20260422T121422Z
URL:https://members.longmontchamber.org/events/details/workers-comp-safety-training-zoom-webinar-struck-by-hazards-10016
END:VEVENT

END:VCALENDAR
