BEGIN:VCALENDAR
VERSION:2.0
PRODID:-//ChamberMaster//Event Calendar 2.0//EN
METHOD:PUBLISH
X-PUBLISHED-TTL:P3D
REFRESH-INTERVAL:P3D
CALSCALE:GREGORIAN
BEGIN:VEVENT
DTSTART:20241105T180000Z
DTEND:20241105T190000Z
X-MICROSOFT-CDO-ALLDAYEVENT:FALSE
SUMMARY:Workers Comp Safety Training Zoom Webinar - Topic TBD
DESCRIPTION:Topic TBD\n\n\nAll Chamber members are invited to join our quarterly safety trainings\, a part of our Pinnacol Assurance workers compensation safety program.  For more information email Karen Stallard.
X-ALT-DESC;FMTTYPE=text/html:<h3>Topic TBD</h3>\n\n<div>\n<h3>All Chamber members are invited to join our quarterly safety trainings\, a part of our Pinnacol Assurance workers compensation safety program.&nbsp\; For more information email <a href="mailto:kstallard@longmontchamber.org?subject=March%207th%20Safety%20Training">Karen Stallard</a>.</h3>\n\n<p>&nbsp\;</p>\n</div>\n<br />\n&nbsp\;
LOCATION:Members must register through the Pinnacol webinar platform Register in advance for this webinar:
UID:e.3083.10019
SEQUENCE:3
DTSTAMP:20260421T235406Z
URL:https://members.longmontchamber.org/events/details/workers-comp-safety-training-zoom-webinar-topic-tbd-10019
END:VEVENT

END:VCALENDAR
