BEGIN:VCALENDAR
VERSION:2.0
PRODID:-//ChamberMaster//Event Calendar 2.0//EN
METHOD:PUBLISH
X-PUBLISHED-TTL:P3D
REFRESH-INTERVAL:P3D
CALSCALE:GREGORIAN
BEGIN:VEVENT
DTSTART:20220930T230000Z
DTEND:20221001T040000Z
X-MICROSOFT-CDO-ALLDAYEVENT:FALSE
SUMMARY:Yacht Rock! Dine / Drink / Dance
DESCRIPTION:Grab your boat shoes and sailor caps - we're hitting the seas. Dj Drake will be back to mix some light rock classics (Michael McDonald\, Chris Cross\, Hall & Oats\, and more). Rising Tiger is bringing a full sea-fare menu (including sushi) And there will be beachy cocktails without question. Email info@thetimesco.com to reserve a table.
X-ALT-DESC;FMTTYPE=text/html:<span style="font-family:arial\,helvetica neue\,helvetica\,sans-serif\; font-size:14px">Grab your boat shoes and sailor caps - we&#39\;re hitting the seas. Dj Drake will be back to mix some light&nbsp\;rock classics (Michael McDonald\, Chris Cross\, Hall &amp\; Oats\, and more). Rising Tiger is bringing a full sea-fare menu (including sushi)&nbsp\;And there will be beachy cocktails without question. Email&nbsp\;</span><a href="mailto:info@thetimesco.com" style="color: rgb(0\, 124\, 137)\; font-family: arial\, &quot\;helvetica neue&quot\;\, helvetica\, sans-serif\; font-size: 14px\;" target="_blank">info@thetimesco.com</a><span style="font-family:arial\,helvetica neue\,helvetica\,sans-serif\; font-size:14px">&nbsp\;to reserve a table.&nbsp\;</span>
LOCATION:The Times Collaborative 338 Main St
UID:e.3083.9100
SEQUENCE:3
DTSTAMP:20260423T161729Z
URL:https://members.longmontchamber.org/events/details/yacht-rock-dine-drink-dance-9100
END:VEVENT

END:VCALENDAR
