BEGIN:VCALENDAR
VERSION:2.0
PRODID:-//ChamberMaster//Event Calendar 2.0//EN
METHOD:PUBLISH
X-PUBLISHED-TTL:P3D
REFRESH-INTERVAL:P3D
CALSCALE:GREGORIAN
BEGIN:VEVENT
DTSTART:20241005T140000Z
DTEND:20241005T200000Z
X-MICROSOFT-CDO-ALLDAYEVENT:FALSE
SUMMARY:Yard Sale Fundraiser
DESCRIPTION:YARD SALE FUNDRAISER\n\n\n\nJoin us on October 5th from 8AM - 2PM at 637 Terry Street for our Yard Sale Fundraiser.\n\n\n\nWhat You'll Find:\n\n\n\n*Household items\n\n*Clothing\n\n*Shoes\n\n*Furniture\n\n*And much more!\n\n\n\nAll proceeds will benefit Elevated Communities\, helping us continue our mission of supporting Boulder County community members in need of an accessible and safe space to overcome barriers towards self-sufficiency\, provided through individualized advocacy\, resource navigation\, and employment readiness strategies.\n\n\n\nDon't miss this opportunity to find great deals and support a wonderful cause! Bring your friends and family --- every purchase makes a difference!\n\n\n\nDate: October 5th\, 2024\n\nTime: 8AM - 2PM\n\nLocation: 637 Terry Street\n\n\n\nWe can't wait to see you there!
X-ALT-DESC;FMTTYPE=text/html:YARD SALE FUNDRAISER<br />\n<br />\nJoin us on October 5th from 8AM - 2PM at 637 Terry Street for our Yard Sale Fundraiser.<br />\n<br />\nWhat You&#39\;ll Find:<br />\n<br />\n*Household items<br />\n*Clothing<br />\n*Shoes<br />\n*Furniture<br />\n*And much more!<br />\n<br />\nAll proceeds will benefit Elevated Communities\, helping us continue our mission of supporting Boulder County community members in need of an accessible and safe space to overcome barriers towards self-sufficiency\, provided through individualized advocacy\, resource navigation\, and employment readiness strategies.<br />\n<br />\nDon&#39\;t miss this opportunity to find great deals and support a wonderful cause! Bring your friends and family --- every purchase makes a difference!<br />\n<br />\nDate: October 5th\, 2024<br />\nTime: 8AM - 2PM<br />\nLocation: 637 Terry Street<br />\n<br />\nWe can&#39\;t wait to see you there!&nbsp\;
LOCATION:637 Terry Street Longmont\, CO
UID:e.3083.10225
SEQUENCE:3
DTSTAMP:20260422T013451Z
URL:https://members.longmontchamber.org/events/details/yard-sale-fundraiser-10225
END:VEVENT

END:VCALENDAR
