BEGIN:VCALENDAR
VERSION:2.0
PRODID:-//ChamberMaster//Event Calendar 2.0//EN
METHOD:PUBLISH
X-PUBLISHED-TTL:P3D
REFRESH-INTERVAL:P3D
CALSCALE:GREGORIAN
BEGIN:VEVENT
DTSTART:20250824T160000Z
DTEND:20250824T170000Z
X-MICROSOFT-CDO-ALLDAYEVENT:FALSE
SUMMARY:Yoga & Tea Series
DESCRIPTION:Join us for a rejuvenating morning of yoga and mindful sipping at Luminous Teahouse.  In collaboration with Full Circle Yoga\, this all-levels class is designed to relax your body\, quiet your mind\, and set a peaceful tone for the rest of your day.\n\nWhat's Included:\n\n\n	A 60-minute yoga session guided by Milena from Full Circle Yoga\n	Your choice of one hot or iced tea from our menu (120+ flavors)\n	A bakery item of your choice (choose from scone\, croissant\, or rotating seasonal option)\n\n\nWhether you're a seasoned yogi or just starting your journey\, this is the perfect way to stretch\, sip\, and connect.  Together\, we'll fill our cups with movement\, mindfulness\, tea\, and community.\n\nBring your own mat and blocks.  Space is limited   reserve your spot in advance.\n\nGet Tickets: https://luminoustea.com/event/yoga-tea-series/
X-ALT-DESC;FMTTYPE=text/html:<p><br />\n<span style="font-size:18px\;">Join us for a rejuvenating morning of yoga and mindful sipping at Luminous Teahouse.&nbsp\; In collaboration with&nbsp\;<strong>Full Circle Yoga</strong>\, this all-levels class is designed to relax your body\, quiet your mind\, and set a peaceful tone for the rest of your day.</span></p>\n\n<p><span style="font-size:18px\;"><strong>What&rsquo\;s Included:</strong></span></p>\n\n<ul>\n	<li><span style="font-size:18px\;">A 60-minute yoga session guided by&nbsp\;<strong>Milena</strong>&nbsp\;from&nbsp\;<strong>Full Circle Yoga</strong></span></li>\n	<li><span style="font-size:18px\;">Your choice of one hot or iced tea from our menu (120+ flavors)</span></li>\n	<li><span style="font-size:18px\;">A bakery item of your choice (choose from scone\, croissant\, or rotating seasonal option)</span></li>\n</ul>\n\n<p><span style="font-size:18px\;">Whether you&#39\;re a seasoned yogi or just starting your journey\, this is the perfect way to stretch\, sip\, and connect.&nbsp\; Together\, we&rsquo\;ll fill our cups&mdash\;with movement\, mindfulness\, tea\, and community.</span></p>\n\n<p><span style="font-size:18px\;">Bring your own mat and blocks.&nbsp\; Space is limited &mdash\; reserve your spot in advance.</span></p>\n\n<p><span style="font-size:18px\;"><strong>Get Tickets:</strong>&nbsp\;<strong><a href="https://luminoustea.com/event/yoga-tea-series/" rel="nofollow noopener noreferrer" style="background-color: transparent\; color: rgb(54\, 89\, 227)\; box-sizing: border-box\;" target="_blank" title="https://luminoustea.com/event/yoga-tea-series/">https://luminoustea.com/event/yoga-tea-series/</a></strong></span></p>\n
LOCATION:
UID:e.3083.13590
SEQUENCE:3
DTSTAMP:20260421T082803Z
URL:https://members.longmontchamber.org/events/details/yoga-tea-series-08-24-2025-13590
END:VEVENT

END:VCALENDAR
