BEGIN:VCALENDAR
VERSION:2.0
PRODID:-//ChamberMaster//Event Calendar 2.0//EN
METHOD:PUBLISH
X-PUBLISHED-TTL:P3D
REFRESH-INTERVAL:P3D
CALSCALE:GREGORIAN
BEGIN:VEVENT
DTSTART;VALUE=DATE:20250712
DTEND;VALUE=DATE:20250713
TRANSP:TRANSPARENT
X-MICROSOFT-CDO-ALLDAYEVENT:TRUE
SUMMARY:Community Celebration Day! Ziggi's Clover Basin
DESCRIPTION:Celebrate Ziggi's Grand Opening in Clover Basin with a day full of fun!\n\n\n\n50% off Menu Drinks ALL DAY LONG\n\n\n\nStarting at 10AM:\n\n- Face Painter\n\n- Balloon Artist\n\n- Longmont Humane Society\n\n- Yard Games\n\n- Fun!\n\n\n\n12PM Presenting Fundraiser Check to:\n\nEagle Crest Elementary\n\nBlue Mountain Elementary\n\nAltona Middle School\n\nSilver Creek High School
X-ALT-DESC;FMTTYPE=text/html:<p><br />\n<span style="font-size:22px\;">Celebrate Ziggi&#39\;s Grand Opening in Clover Basin with a day full of fun!<br />\n<br />\n<strong>50% off Menu Drinks ALL DAY LONG</strong><br />\n<br />\n<strong>Starting at 10AM:</strong></span></p>\n\n<p><span style="font-size:22px\;">- Face Painter<br />\n- Balloon Artist<br />\n- Longmont Humane Society<br />\n- Yard Games<br />\n- Fun!<br />\n<br />\n<strong>12PM&nbsp\;Presenting Fundraiser Check to:</strong><br />\nEagle Crest Elementary<br />\nBlue Mountain Elementary<br />\nAltona Middle School<br />\nSilver Creek High School</span></p>\n
LOCATION:
UID:e.3083.13557
SEQUENCE:3
DTSTAMP:20260421T111159Z
URL:https://members.longmontchamber.org/events/details/ziggi-s-clover-basin-community-celebration-day-13557
END:VEVENT

END:VCALENDAR
