BEGIN:VCALENDAR
VERSION:2.0
PRODID:-//ChamberMaster//Event Calendar 2.0//EN
METHOD:PUBLISH
X-PUBLISHED-TTL:P3D
REFRESH-INTERVAL:P3D
CALSCALE:GREGORIAN
BEGIN:VEVENT
DTSTART;VALUE=DATE:20250707
DTEND;VALUE=DATE:20250712
TRANSP:TRANSPARENT
X-MICROSOFT-CDO-ALLDAYEVENT:TRUE
SUMMARY:Ziggi's Coffee Grand Opening Week!
DESCRIPTION:Fundraiser Week to Celebrate Ziggi's Coffee Clover Basin's Grand Opening!\n\n\n\n10% of sales ALL DAY Monday the 7th through Friday the 11th will be donated to:\n\n- Blue Mountain Elementary\n\n- Eagle Crest Elementary\n\n- Altona Middle School\n\n- Silver Creek High School\n\n\n\nSwing by to support our local schools and celebrate this milestone with us!
X-ALT-DESC;FMTTYPE=text/html:<br />\n<span style="font-size:22px\;">Fundraiser Week to Celebrate Ziggi&#39\;s Coffee Clover Basin&#39\;s Grand Opening!<br />\n<br />\n10% of sales ALL DAY Monday the 7th through Friday the 11th will be donated to:<br />\n- Blue Mountain Elementary<br />\n- Eagle Crest Elementary<br />\n- Altona Middle School<br />\n- Silver Creek High School<br />\n<br />\nSwing by to support our local schools and celebrate this milestone with us!</span><br />\n<br />\n<br />\n&nbsp\;
LOCATION:
UID:e.3083.13556
SEQUENCE:3
DTSTAMP:20260421T111221Z
URL:https://members.longmontchamber.org/events/details/ziggi-s-coffee-grand-opening-week-13556
END:VEVENT

END:VCALENDAR
