BEGIN:VCALENDAR
VERSION:2.0
PRODID:-//ChamberMaster//Event Calendar 2.0//EN
METHOD:PUBLISH
X-PUBLISHED-TTL:P3D
REFRESH-INTERVAL:P3D
CALSCALE:GREGORIAN
BEGIN:VEVENT
DTSTART:20200605T210000Z
DTEND:20200605T220000Z
X-MICROSOFT-CDO-ALLDAYEVENT:FALSE
SUMMARY:Zoom Ribbon Cutting: Unified Title Company
DESCRIPTION:Join us at a Zoom Ribbon Cutting for Unified Title Company!\n\n\n\nBusiness Development for Unified Title who closes residential\, commercial\, builder and refinance transactions.
X-ALT-DESC;FMTTYPE=text/html:<span style="font-family:arial\;">Join us at a Zoom Ribbon Cutting for Unified Title Company!<br />\n<br />\n<span style="color: rgb(81\, 83\, 81)\; font-size: 15px\;">Business Development for Unified Title who closes residential\, commercial\, builder and refinance transactions.</span></span>
LOCATION:Register for the event to receive meeting information
UID:e.3083.7566
SEQUENCE:3
DTSTAMP:20260425T120954Z
URL:https://members.longmontchamber.org/events/details/zoom-ribbon-cutting-unified-title-company-7566
END:VEVENT

END:VCALENDAR
